BEGIN:VCALENDAR
VERSION:2.0
PRODID:icalendar-ruby
CALSCALE:GREGORIAN
METHOD:PUBLISH
BEGIN:VEVENT
DTSTAMP:20260421T123820Z
UID:54-170712@sfbatx.org
DTSTART;VALUE=DATE:20260506
DTEND;VALUE=DATE:20260506
CLASS:PUBLIC
CREATED:20260420T112811
DESCRIPTION:Trailer Reserved by Calvary Baptist Church
LAST-MODIFIED:20260420T112811
LOCATION:
SUMMARY:Block PArty Trailer Reserved
URL;VALUE=URI:https://www.sfbatx.org/events/block-party-trailer-reserved--5
 4/2026-05-06
ATTACH;FILENAME=RESERVED Block Party Trailer.png;FMTTYPE=image/png:https://
 dq5pwpg1q8ru0.cloudfront.net/2026/04/20/16/28/11/f6dca222-db08-47fe-9b25-1
 e59d97db342/RESERVED%20Block%20Party%20Trailer.png
END:VEVENT
END:VCALENDAR
