BEGIN:VCALENDAR
VERSION:2.0
PRODID:icalendar-ruby
CALSCALE:GREGORIAN
METHOD:PUBLISH
BEGIN:VEVENT
DTSTAMP:20260420T135940Z
UID:52-170710@sfbatx.org
DTSTART:20260615T150000Z
DTEND:20260618T160000Z
CLASS:PUBLIC
CREATED:20260416T092158
DESCRIPTION:KAMP KHAOS is a Monday-thru-Thursday summer camp for Boys &am
 p\; Girls who have completed the 3rd grade on up through those who have
  completed the 6th grade.  Activities include worship\, Bible study\, mi
 ssions study\, quiet times\, crafts\, music\, track times\, recreation\, w
 ater activities\, and fellowship.  Campers can sign up for a Track Time a
 ctivity of their choice.  Kamp Khaos is a ministry of Texas Baptist Enc
 ampment\, planned and programmed by a Leadership Team from participating
  churches.  The cost is $195 per person for those registered by May 15t
 h.  $20 Late Fee after that.  Kids need to register through their own c
 hurches.  A church rep will then register everyone through this webpage
  via the links provided. A $50/person non-refundable deposit is required
 \, which can be paid by check mailed to "Texas Baptist Encampment\, ATTN
 : Kamp Khaos\, P.O. Box 1265\, Palacios\, Texas 77465. Online payment is n
 o longer available.
LAST-MODIFIED:20260416T092158
LOCATION:
SUMMARY:KAMP KHAOS
URL;VALUE=URI:https://www.sfbatx.org/events/kamp-khaos/2026-06-15
ATTACH;FILENAME=KAMP.png;FMTTYPE=image/png:https://dq5pwpg1q8ru0.cloudfront
 .net/2026/04/16/14/21/58/54c6cc9c-de8f-446a-9043-47468316024c/KAMP.png
END:VEVENT
END:VCALENDAR
