BEGIN:VCALENDAR
VERSION:2.0
PRODID:icalendar-ruby
CALSCALE:GREGORIAN
METHOD:PUBLISH
BEGIN:VEVENT
DTSTAMP:20260420T141731Z
UID:51-170709@sfbatx.org
DTSTART;VALUE=DATE:20260618
DTEND;VALUE=DATE:20260620
CLASS:PUBLIC
CREATED:20260416T091403
DESCRIPTION:\n\n\n\n\nSplash Camp\nJune 18-20\, 2026\n\n\n\n\n\n\n\n\n\n\nR
 eady for a camp your kids won’t forget?\nSplash Camp is an experience de
 signed by churches as a resource for local churches of any size to reach p
 reteens with the Gospel &amp\; God’s love.\n2026 marks our fifth year of
  this great camp\, designed uniquely for preteen children\, completed 3rd-
 6th grade\, to a 3 day-2 night experience that is packed with memory-makin
 g moments to enjoy with friends and filled with spiritual lessons geared f
 or kids!\n\n\n\n\n\n\n\n\n\n\nCollaboration matters\nOur camp is a venture
  of love from a community of churches who join together to make this visio
 n a reality.\nThe 2026 Splash Camp Core Team will lead to prayerfully craf
 t a camp with environments where kids encounter Jesus alongside of leaders
  from your church.\nSan Felipe Baptist Association serves as vital part of
  our efforts\, providing important organizational support and oversight fo
 r Splash Camp. SFBA finds an investment in Splash Camp fits their mission 
 -\n\n- to REACH THE LOST\, RAISE THE NEXT GENERATION OF CHURCH LEADERS\, A
 ND REVITALIZE THE CHURCH.\n\nSFBA not only gives oversight in financial ac
 counting and leadership support\, but they’re also providing financial i
 nvestment to assist in efforts to keep costs more affordable for churches 
 while keeping a quality camp experience.\n\n\n\n\n\n 
LAST-MODIFIED:20260416T091403
LOCATION:
SUMMARY:Splash Camp
URL;VALUE=URI:https://www.sfbatx.org/events/splash-camp/2026-06-18
ATTACH;FILENAME=2026 Splash Camp.png;FMTTYPE=image/png:https://dq5pwpg1q8ru
 0.cloudfront.net/2026/04/16/14/12/50/9f2d1d25-c4e2-44a6-82b1-806346d622b1/
 2026%20Splash%20Camp.png
END:VEVENT
END:VCALENDAR
